BEGIN:VCALENDAR
VERSION:2.0
PRODID:-//wp-events-plugin.com//6.6.3//EN
TZID:Europe/Rome
X-WR-TIMEZONE:Europe/Rome
BEGIN:VEVENT
UID:0-2@comunitapinetana.diocesitn.it
DTSTART;TZID=Europe/Rome:20190313T201500
DTEND;TZID=Europe/Rome:20190412T223000
DTSTAMP:20190328T173755Z
URL:https://comunitapinetana.diocesitn.it/events/laboratorio-di-formazione
 /
SUMMARY:Laboratorio di formazione
DESCRIPTION:Le Parrocchie di Piné in collaborazione con Noi Oratorio e con
  la Pastorale giovanile diocesana\, propongono\nLABORATORIO DI FORMAZIONE\
 nStrategie educative nelle attività di gruppo\nper bambini elementari/med
 ie:\nprogettare\, gestire\, animare\nMercoledì 13 marzo 2019\nMercoledì 
 27 marzo 2019\nMercoledì 10 aprile 2019\nVenerdì 12 aprile 2019 ore 20.0
 0\nPresso la cooperativa C.A.S.A.\nDalle ore 20.15 alle ore 22.30\nAl term
 ine verrà rilasciato attestato di partecipazione.\nPer iscrizioni contatt
 are Don Stefano:\nstefanovolani@yahoo.br o baselgapine@parrocchietn.it\n
CATEGORIES:Formazione
LOCATION:Cooperativa C.A.S.A.\, Via delle scuole\, 8\, BASELGA DI PINE'\, T
 N\, 38042\, Trentino Alto Adige\, Italia
GEO:46.131747;11.242705999999998
X-APPLE-STRUCTURED-LOCATION;VALUE=URI;X-ADDRESS=Via delle scuole\, 8\, BASE
 LGA DI PINE'\, TN\, 38042\, Trentino Alto Adige\, Italia;X-APPLE-RADIUS=10
 0;X-TITLE=Cooperativa C.A.S.A.:geo:46.131747,11.242705999999998
END:VEVENT
BEGIN:VTIMEZONE
TZID:Europe/Rome
X-LIC-LOCATION:Europe/Rome
BEGIN:STANDARD
DTSTART:20181028T020000
TZOFFSETFROM:+0200
TZOFFSETTO:+0100
TZNAME:CET
END:STANDARD
BEGIN:DAYLIGHT
DTSTART:20190331T030000
TZOFFSETFROM:+0100
TZOFFSETTO:+0200
TZNAME:CEST
END:DAYLIGHT
END:VTIMEZONE
END:VCALENDAR